BEGIN:VCALENDAR
VERSION:2.0
PRODID:-//The Bridge Lanark - ECPv6.15.18//NONSGML v1.0//EN
CALSCALE:GREGORIAN
METHOD:PUBLISH
X-WR-CALNAME:The Bridge Lanark
X-ORIGINAL-URL:https://www.thebridgelanark.co.uk
X-WR-CALDESC:Events for The Bridge Lanark
REFRESH-INTERVAL;VALUE=DURATION:PT1H
X-Robots-Tag:noindex
X-PUBLISHED-TTL:PT1H
BEGIN:VTIMEZONE
TZID:Europe/London
BEGIN:DAYLIGHT
TZOFFSETFROM:+0000
TZOFFSETTO:+0100
TZNAME:BST
DTSTART:20240331T010000
END:DAYLIGHT
BEGIN:STANDARD
TZOFFSETFROM:+0100
TZOFFSETTO:+0000
TZNAME:GMT
DTSTART:20241027T010000
END:STANDARD
BEGIN:DAYLIGHT
TZOFFSETFROM:+0000
TZOFFSETTO:+0100
TZNAME:BST
DTSTART:20250330T010000
END:DAYLIGHT
BEGIN:STANDARD
TZOFFSETFROM:+0100
TZOFFSETTO:+0000
TZNAME:GMT
DTSTART:20251026T010000
END:STANDARD
BEGIN:DAYLIGHT
TZOFFSETFROM:+0000
TZOFFSETTO:+0100
TZNAME:BST
DTSTART:20260329T010000
END:DAYLIGHT
BEGIN:STANDARD
TZOFFSETFROM:+0100
TZOFFSETTO:+0000
TZNAME:GMT
DTSTART:20261025T010000
END:STANDARD
END:VTIMEZONE
BEGIN:VEVENT
DTSTART;TZID=Europe/London:20251006T140000
DTEND;TZID=Europe/London:20251006T153000
DTSTAMP:20260425T174454
CREATED:20250406T192704Z
LAST-MODIFIED:20250406T192704Z
UID:10002477-1759759200-1759764600@www.thebridgelanark.co.uk
SUMMARY:Cafe drop in
DESCRIPTION:Drop in at the Bridge Cafe…  \nfree coffee and tea / connection / listening ear / all welcome
URL:https://www.thebridgelanark.co.uk/event/cafe-drop-in/2025-10-06/
LOCATION:The Bridge Cafe\, 26 St Leonard’s Street\, Lanark\, Lanarkshire\, ML11 7AB\, United Kingdom
CATEGORIES:Cafe,Regular Events
ATTACH;FMTTYPE=image/jpeg:https://www.thebridgelanark.co.uk/wp-content/uploads/2015/05/cup.jpg
GEO:55.6741894;-3.774112
X-APPLE-STRUCTURED-LOCATION;VALUE=URI;X-ADDRESS=The Bridge Cafe 26 St Leonard’s Street Lanark Lanarkshire ML11 7AB United Kingdom;X-APPLE-RADIUS=500;X-TITLE=26 St Leonard’s Street:geo:-3.774112,55.6741894
END:VEVENT
BEGIN:VEVENT
DTSTART;TZID=Europe/London:20251013T140000
DTEND;TZID=Europe/London:20251013T153000
DTSTAMP:20260425T174454
CREATED:20250406T192704Z
LAST-MODIFIED:20250406T192704Z
UID:10002478-1760364000-1760369400@www.thebridgelanark.co.uk
SUMMARY:Cafe drop in
DESCRIPTION:Drop in at the Bridge Cafe…  \nfree coffee and tea / connection / listening ear / all welcome
URL:https://www.thebridgelanark.co.uk/event/cafe-drop-in/2025-10-13/
LOCATION:The Bridge Cafe\, 26 St Leonard’s Street\, Lanark\, Lanarkshire\, ML11 7AB\, United Kingdom
CATEGORIES:Cafe,Regular Events
ATTACH;FMTTYPE=image/jpeg:https://www.thebridgelanark.co.uk/wp-content/uploads/2015/05/cup.jpg
GEO:55.6741894;-3.774112
X-APPLE-STRUCTURED-LOCATION;VALUE=URI;X-ADDRESS=The Bridge Cafe 26 St Leonard’s Street Lanark Lanarkshire ML11 7AB United Kingdom;X-APPLE-RADIUS=500;X-TITLE=26 St Leonard’s Street:geo:-3.774112,55.6741894
END:VEVENT
BEGIN:VEVENT
DTSTART;TZID=Europe/London:20251020T140000
DTEND;TZID=Europe/London:20251020T153000
DTSTAMP:20260425T174454
CREATED:20250406T192704Z
LAST-MODIFIED:20250406T192704Z
UID:10002479-1760968800-1760974200@www.thebridgelanark.co.uk
SUMMARY:Cafe drop in
DESCRIPTION:Drop in at the Bridge Cafe…  \nfree coffee and tea / connection / listening ear / all welcome
URL:https://www.thebridgelanark.co.uk/event/cafe-drop-in/2025-10-20/
LOCATION:The Bridge Cafe\, 26 St Leonard’s Street\, Lanark\, Lanarkshire\, ML11 7AB\, United Kingdom
CATEGORIES:Cafe,Regular Events
ATTACH;FMTTYPE=image/jpeg:https://www.thebridgelanark.co.uk/wp-content/uploads/2015/05/cup.jpg
GEO:55.6741894;-3.774112
X-APPLE-STRUCTURED-LOCATION;VALUE=URI;X-ADDRESS=The Bridge Cafe 26 St Leonard’s Street Lanark Lanarkshire ML11 7AB United Kingdom;X-APPLE-RADIUS=500;X-TITLE=26 St Leonard’s Street:geo:-3.774112,55.6741894
END:VEVENT
BEGIN:VEVENT
DTSTART;TZID=Europe/London:20251027T140000
DTEND;TZID=Europe/London:20251027T153000
DTSTAMP:20260425T174454
CREATED:20250406T192704Z
LAST-MODIFIED:20250406T192704Z
UID:10002480-1761573600-1761579000@www.thebridgelanark.co.uk
SUMMARY:Cafe drop in
DESCRIPTION:Drop in at the Bridge Cafe…  \nfree coffee and tea / connection / listening ear / all welcome
URL:https://www.thebridgelanark.co.uk/event/cafe-drop-in/2025-10-27/
LOCATION:The Bridge Cafe\, 26 St Leonard’s Street\, Lanark\, Lanarkshire\, ML11 7AB\, United Kingdom
CATEGORIES:Cafe,Regular Events
ATTACH;FMTTYPE=image/jpeg:https://www.thebridgelanark.co.uk/wp-content/uploads/2015/05/cup.jpg
GEO:55.6741894;-3.774112
X-APPLE-STRUCTURED-LOCATION;VALUE=URI;X-ADDRESS=The Bridge Cafe 26 St Leonard’s Street Lanark Lanarkshire ML11 7AB United Kingdom;X-APPLE-RADIUS=500;X-TITLE=26 St Leonard’s Street:geo:-3.774112,55.6741894
END:VEVENT
END:VCALENDAR