BEGIN:VCALENDAR
VERSION:2.0
PRODID:-//The Bridge Lanark - ECPv6.15.18//NONSGML v1.0//EN
CALSCALE:GREGORIAN
METHOD:PUBLISH
X-WR-CALNAME:The Bridge Lanark
X-ORIGINAL-URL:https://www.thebridgelanark.co.uk
X-WR-CALDESC:Events for The Bridge Lanark
REFRESH-INTERVAL;VALUE=DURATION:PT1H
X-Robots-Tag:noindex
X-PUBLISHED-TTL:PT1H
BEGIN:VTIMEZONE
TZID:Europe/London
BEGIN:DAYLIGHT
TZOFFSETFROM:+0000
TZOFFSETTO:+0100
TZNAME:BST
DTSTART:20240331T010000
END:DAYLIGHT
BEGIN:STANDARD
TZOFFSETFROM:+0100
TZOFFSETTO:+0000
TZNAME:GMT
DTSTART:20241027T010000
END:STANDARD
BEGIN:DAYLIGHT
TZOFFSETFROM:+0000
TZOFFSETTO:+0100
TZNAME:BST
DTSTART:20250330T010000
END:DAYLIGHT
BEGIN:STANDARD
TZOFFSETFROM:+0100
TZOFFSETTO:+0000
TZNAME:GMT
DTSTART:20251026T010000
END:STANDARD
BEGIN:DAYLIGHT
TZOFFSETFROM:+0000
TZOFFSETTO:+0100
TZNAME:BST
DTSTART:20260329T010000
END:DAYLIGHT
BEGIN:STANDARD
TZOFFSETFROM:+0100
TZOFFSETTO:+0000
TZNAME:GMT
DTSTART:20261025T010000
END:STANDARD
END:VTIMEZONE
BEGIN:VEVENT
DTSTART;TZID=Europe/London:20251201T140000
DTEND;TZID=Europe/London:20251201T153000
DTSTAMP:20260425T174543
CREATED:20250406T192704Z
LAST-MODIFIED:20250406T192704Z
UID:10002485-1764597600-1764603000@www.thebridgelanark.co.uk
SUMMARY:Cafe drop in
DESCRIPTION:Drop in at the Bridge Cafe…  \nfree coffee and tea / connection / listening ear / all welcome
URL:https://www.thebridgelanark.co.uk/event/cafe-drop-in/2025-12-01/
LOCATION:The Bridge Cafe\, 26 St Leonard’s Street\, Lanark\, Lanarkshire\, ML11 7AB\, United Kingdom
CATEGORIES:Cafe,Regular Events
ATTACH;FMTTYPE=image/jpeg:https://www.thebridgelanark.co.uk/wp-content/uploads/2015/05/cup.jpg
GEO:55.6741894;-3.774112
X-APPLE-STRUCTURED-LOCATION;VALUE=URI;X-ADDRESS=The Bridge Cafe 26 St Leonard’s Street Lanark Lanarkshire ML11 7AB United Kingdom;X-APPLE-RADIUS=500;X-TITLE=26 St Leonard’s Street:geo:-3.774112,55.6741894
END:VEVENT
BEGIN:VEVENT
DTSTART;TZID=Europe/London:20251208T140000
DTEND;TZID=Europe/London:20251208T153000
DTSTAMP:20260425T174543
CREATED:20250406T192704Z
LAST-MODIFIED:20250406T192704Z
UID:10002486-1765202400-1765207800@www.thebridgelanark.co.uk
SUMMARY:Cafe drop in
DESCRIPTION:Drop in at the Bridge Cafe…  \nfree coffee and tea / connection / listening ear / all welcome
URL:https://www.thebridgelanark.co.uk/event/cafe-drop-in/2025-12-08/
LOCATION:The Bridge Cafe\, 26 St Leonard’s Street\, Lanark\, Lanarkshire\, ML11 7AB\, United Kingdom
CATEGORIES:Cafe,Regular Events
ATTACH;FMTTYPE=image/jpeg:https://www.thebridgelanark.co.uk/wp-content/uploads/2015/05/cup.jpg
GEO:55.6741894;-3.774112
X-APPLE-STRUCTURED-LOCATION;VALUE=URI;X-ADDRESS=The Bridge Cafe 26 St Leonard’s Street Lanark Lanarkshire ML11 7AB United Kingdom;X-APPLE-RADIUS=500;X-TITLE=26 St Leonard’s Street:geo:-3.774112,55.6741894
END:VEVENT
BEGIN:VEVENT
DTSTART;TZID=Europe/London:20251215T140000
DTEND;TZID=Europe/London:20251215T153000
DTSTAMP:20260425T174543
CREATED:20250406T192704Z
LAST-MODIFIED:20250406T192704Z
UID:10002487-1765807200-1765812600@www.thebridgelanark.co.uk
SUMMARY:Cafe drop in
DESCRIPTION:Drop in at the Bridge Cafe…  \nfree coffee and tea / connection / listening ear / all welcome
URL:https://www.thebridgelanark.co.uk/event/cafe-drop-in/2025-12-15/
LOCATION:The Bridge Cafe\, 26 St Leonard’s Street\, Lanark\, Lanarkshire\, ML11 7AB\, United Kingdom
CATEGORIES:Cafe,Regular Events
ATTACH;FMTTYPE=image/jpeg:https://www.thebridgelanark.co.uk/wp-content/uploads/2015/05/cup.jpg
GEO:55.6741894;-3.774112
X-APPLE-STRUCTURED-LOCATION;VALUE=URI;X-ADDRESS=The Bridge Cafe 26 St Leonard’s Street Lanark Lanarkshire ML11 7AB United Kingdom;X-APPLE-RADIUS=500;X-TITLE=26 St Leonard’s Street:geo:-3.774112,55.6741894
END:VEVENT
BEGIN:VEVENT
DTSTART;TZID=Europe/London:20251222T140000
DTEND;TZID=Europe/London:20251222T153000
DTSTAMP:20260425T174543
CREATED:20250926T154207Z
LAST-MODIFIED:20251211T170103Z
UID:10002490-1766412000-1766417400@www.thebridgelanark.co.uk
SUMMARY:No cafe drop in-holiday break
DESCRIPTION:No cafe drop in-holiday break
URL:https://www.thebridgelanark.co.uk/event/cafe-drop-in-8/
LOCATION:The Bridge Cafe\, 26 St Leonard’s Street\, Lanark\, Lanarkshire\, ML11 7AB\, United Kingdom
CATEGORIES:Cafe,Regular Events
ATTACH;FMTTYPE=image/jpeg:https://www.thebridgelanark.co.uk/wp-content/uploads/2015/05/cup.jpg
GEO:55.6741894;-3.774112
X-APPLE-STRUCTURED-LOCATION;VALUE=URI;X-ADDRESS=The Bridge Cafe 26 St Leonard’s Street Lanark Lanarkshire ML11 7AB United Kingdom;X-APPLE-RADIUS=500;X-TITLE=26 St Leonard’s Street:geo:-3.774112,55.6741894
END:VEVENT
BEGIN:VEVENT
DTSTART;TZID=Europe/London:20251223T190000
DTEND;TZID=Europe/London:20251223T203000
DTSTAMP:20260425T174543
CREATED:20241105T125009Z
LAST-MODIFIED:20251211T170317Z
UID:10002138-1766516400-1766521800@www.thebridgelanark.co.uk
SUMMARY:Christmas cafe
DESCRIPTION:Join us in the cafe for Christmas carols\, Bible readings and fellowship together.
URL:https://www.thebridgelanark.co.uk/event/christmas-cafe/
LOCATION:Lanarkshire
CATEGORIES:Cafe,Special Events
ATTACH;FMTTYPE=image/jpeg:https://www.thebridgelanark.co.uk/wp-content/uploads/2022/12/Christmas-Café-website-banner.jpg
END:VEVENT
BEGIN:VEVENT
DTSTART;TZID=Europe/London:20251229T140000
DTEND;TZID=Europe/London:20251229T153000
DTSTAMP:20260425T174543
CREATED:20250926T154055Z
LAST-MODIFIED:20250926T154056Z
UID:10002489-1767016800-1767022200@www.thebridgelanark.co.uk
SUMMARY:No cafe drop in-holiday break
DESCRIPTION:No cafe drop in-holiday break
URL:https://www.thebridgelanark.co.uk/event/cafe-drop-in-7/
LOCATION:The Bridge Cafe\, 26 St Leonard’s Street\, Lanark\, Lanarkshire\, ML11 7AB\, United Kingdom
CATEGORIES:Cafe,Regular Events
ATTACH;FMTTYPE=image/jpeg:https://www.thebridgelanark.co.uk/wp-content/uploads/2015/05/cup.jpg
GEO:55.6741894;-3.774112
X-APPLE-STRUCTURED-LOCATION;VALUE=URI;X-ADDRESS=The Bridge Cafe 26 St Leonard’s Street Lanark Lanarkshire ML11 7AB United Kingdom;X-APPLE-RADIUS=500;X-TITLE=26 St Leonard’s Street:geo:-3.774112,55.6741894
END:VEVENT
END:VCALENDAR