BEGIN:VCALENDAR
VERSION:2.0
PRODID:-//The Bridge Lanark - ECPv6.15.18//NONSGML v1.0//EN
CALSCALE:GREGORIAN
METHOD:PUBLISH
X-WR-CALNAME:The Bridge Lanark
X-ORIGINAL-URL:https://www.thebridgelanark.co.uk
X-WR-CALDESC:Events for The Bridge Lanark
REFRESH-INTERVAL;VALUE=DURATION:PT1H
X-Robots-Tag:noindex
X-PUBLISHED-TTL:PT1H
BEGIN:VTIMEZONE
TZID:Europe/London
BEGIN:DAYLIGHT
TZOFFSETFROM:+0000
TZOFFSETTO:+0100
TZNAME:BST
DTSTART:20250330T010000
END:DAYLIGHT
BEGIN:STANDARD
TZOFFSETFROM:+0100
TZOFFSETTO:+0000
TZNAME:GMT
DTSTART:20251026T010000
END:STANDARD
BEGIN:DAYLIGHT
TZOFFSETFROM:+0000
TZOFFSETTO:+0100
TZNAME:BST
DTSTART:20260329T010000
END:DAYLIGHT
BEGIN:STANDARD
TZOFFSETFROM:+0100
TZOFFSETTO:+0000
TZNAME:GMT
DTSTART:20261025T010000
END:STANDARD
BEGIN:DAYLIGHT
TZOFFSETFROM:+0000
TZOFFSETTO:+0100
TZNAME:BST
DTSTART:20270328T010000
END:DAYLIGHT
BEGIN:STANDARD
TZOFFSETFROM:+0100
TZOFFSETTO:+0000
TZNAME:GMT
DTSTART:20271031T010000
END:STANDARD
END:VTIMEZONE
BEGIN:VEVENT
DTSTART;TZID=Europe/London:20260402T190000
DTEND;TZID=Europe/London:20260402T203000
DTSTAMP:20260425T160449
CREATED:20260323T104851Z
LAST-MODIFIED:20260323T104853Z
UID:10004263-1775156400-1775161800@www.thebridgelanark.co.uk
SUMMARY:Small Group
DESCRIPTION:Our small groups are a time of looking at scripture in depth in a group environment\, where there is the opportunity to share and discuss what we’re learning. It’s also a time for prayer and ministry to one another. Small groups typically meet in the church cafe every two weeks so please get in touch to confirm. If you are interested in joining us or have any questions please call 07845871639. For more details of what we are currently studying together click here.
URL:https://www.thebridgelanark.co.uk/event/bible-study-2018-01-17-2018-01-31-2020-01-09-2020-07-30-2-6-2-4-3-4-2-3/
LOCATION:Lanarkshire
CATEGORIES:Regular Events
ATTACH;FMTTYPE=image/jpeg:https://www.thebridgelanark.co.uk/wp-content/uploads/2016/09/Bible_study.jpg
END:VEVENT
END:VCALENDAR